BEGIN:VCALENDAR
PRODID:-//Bizzabo//EN
VERSION:2.0
BEGIN:VEVENT
UID:event-442562
ORGANIZER;CN="Moral Money ":mailto:ftlive@ft.com
DTSTAMP:20260422T151248Z
DTSTART:20260721T140000Z
DTEND:20261018T230000Z
SUMMARY:Moral Money 
DESCRIPTION:https://moralmoney.live.ft.com/agenda
LOCATION:https://moralmoney.live.ft.com/agenda
END:VEVENT
END:VCALENDAR